BEGIN:VCALENDAR
VERSION:2.0
PRODID:-//Hilltop Harvest - ECPv6.15.20//NONSGML v1.0//EN
CALSCALE:GREGORIAN
METHOD:PUBLISH
X-WR-CALNAME:Hilltop Harvest
X-ORIGINAL-URL:https://hilltopharvest.com
X-WR-CALDESC:Events for Hilltop Harvest
REFRESH-INTERVAL;VALUE=DURATION:PT1H
X-Robots-Tag:noindex
X-PUBLISHED-TTL:PT1H
BEGIN:VTIMEZONE
TZID:America/Chicago
BEGIN:DAYLIGHT
TZOFFSETFROM:-0600
TZOFFSETTO:-0500
TZNAME:CDT
DTSTART:20220313T080000
END:DAYLIGHT
BEGIN:STANDARD
TZOFFSETFROM:-0500
TZOFFSETTO:-0600
TZNAME:CST
DTSTART:20221106T070000
END:STANDARD
BEGIN:DAYLIGHT
TZOFFSETFROM:-0600
TZOFFSETTO:-0500
TZNAME:CDT
DTSTART:20230312T080000
END:DAYLIGHT
BEGIN:STANDARD
TZOFFSETFROM:-0500
TZOFFSETTO:-0600
TZNAME:CST
DTSTART:20231105T070000
END:STANDARD
BEGIN:DAYLIGHT
TZOFFSETFROM:-0600
TZOFFSETTO:-0500
TZNAME:CDT
DTSTART:20240310T080000
END:DAYLIGHT
BEGIN:STANDARD
TZOFFSETFROM:-0500
TZOFFSETTO:-0600
TZNAME:CST
DTSTART:20241103T070000
END:STANDARD
BEGIN:DAYLIGHT
TZOFFSETFROM:-0600
TZOFFSETTO:-0500
TZNAME:CDT
DTSTART:20250309T080000
END:DAYLIGHT
BEGIN:STANDARD
TZOFFSETFROM:-0500
TZOFFSETTO:-0600
TZNAME:CST
DTSTART:20251102T070000
END:STANDARD
END:VTIMEZONE
BEGIN:VEVENT
DTSTART;TZID=America/Chicago:20240925T170000
DTEND;TZID=America/Chicago:20240925T190000
DTSTAMP:20260423T023833
CREATED:20240814T010142Z
LAST-MODIFIED:20240906T172525Z
UID:10000019-1727283600-1727290800@hilltopharvest.com
SUMMARY:You-Pick Flowers Wednesday nights
DESCRIPTION:Join us every Wednesday evening from 5-7 p.m. to cut your own flower bouquet and enjoy the beauty of flower season. \nCost: $25 to fill a paper cup with your choice of beautiful flowers. The cup holds approximately enough flowers to make a quart jar sized arrangement and is an easy way to transport your flowers home. We accept cash or check. We ask that at least one person in your group purchases a cup. \nClippers are available for you to use. \nKids are welcome (with help cutting) and can enjoy the playground next to the flowers. \nIf weather interferes with our hours we will update our field conditions hotline (844-641-6655) and social media. \nWe will not be offering our food truck during flower season\, but you are welcome to bring your coffee or a snack\, sit at the tables with friends and enjoy the farm a little longer if you’d like. \nPlease leave pets at home. \nDo not smoke while you are visiting our farm.
URL:https://hilltopharvest.com/event/you-pick-flower-nights/2024-09-25/
LOCATION:Hilltop Harvest
ATTACH;FMTTYPE=image/jpeg:https://hilltopharvest.com/wp-content/uploads/2024/04/You-Cut-Flower-Customer-mom-and-child.jpeg
END:VEVENT
BEGIN:VEVENT
DTSTART;TZID=America/Chicago:20240918T170000
DTEND;TZID=America/Chicago:20240918T190000
DTSTAMP:20260423T023833
CREATED:20240814T010142Z
LAST-MODIFIED:20240906T172525Z
UID:10000018-1726678800-1726686000@hilltopharvest.com
SUMMARY:You-Pick Flowers Wednesday nights
DESCRIPTION:Join us every Wednesday evening from 5-7 p.m. to cut your own flower bouquet and enjoy the beauty of flower season. \nCost: $25 to fill a paper cup with your choice of beautiful flowers. The cup holds approximately enough flowers to make a quart jar sized arrangement and is an easy way to transport your flowers home. We accept cash or check. We ask that at least one person in your group purchases a cup. \nClippers are available for you to use. \nKids are welcome (with help cutting) and can enjoy the playground next to the flowers. \nIf weather interferes with our hours we will update our field conditions hotline (844-641-6655) and social media. \nWe will not be offering our food truck during flower season\, but you are welcome to bring your coffee or a snack\, sit at the tables with friends and enjoy the farm a little longer if you’d like. \nPlease leave pets at home. \nDo not smoke while you are visiting our farm.
URL:https://hilltopharvest.com/event/you-pick-flower-nights/2024-09-18/
LOCATION:Hilltop Harvest
ATTACH;FMTTYPE=image/jpeg:https://hilltopharvest.com/wp-content/uploads/2024/04/You-Cut-Flower-Customer-mom-and-child.jpeg
END:VEVENT
BEGIN:VEVENT
DTSTART;TZID=America/Chicago:20240911T170000
DTEND;TZID=America/Chicago:20240911T190000
DTSTAMP:20260423T023833
CREATED:20240814T010142Z
LAST-MODIFIED:20240906T172525Z
UID:10000012-1726074000-1726081200@hilltopharvest.com
SUMMARY:You-Pick Flowers Wednesday nights
DESCRIPTION:Join us every Wednesday evening from 5-7 p.m. to cut your own flower bouquet and enjoy the beauty of flower season. \nCost: $25 to fill a paper cup with your choice of beautiful flowers. The cup holds approximately enough flowers to make a quart jar sized arrangement and is an easy way to transport your flowers home. We accept cash or check. We ask that at least one person in your group purchases a cup. \nClippers are available for you to use. \nKids are welcome (with help cutting) and can enjoy the playground next to the flowers. \nIf weather interferes with our hours we will update our field conditions hotline (844-641-6655) and social media. \nWe will not be offering our food truck during flower season\, but you are welcome to bring your coffee or a snack\, sit at the tables with friends and enjoy the farm a little longer if you’d like. \nPlease leave pets at home. \nDo not smoke while you are visiting our farm.
URL:https://hilltopharvest.com/event/you-pick-flower-nights/2024-09-11/
LOCATION:Hilltop Harvest
ATTACH;FMTTYPE=image/jpeg:https://hilltopharvest.com/wp-content/uploads/2024/04/You-Cut-Flower-Customer-mom-and-child.jpeg
END:VEVENT
BEGIN:VEVENT
DTSTART;VALUE=DATE:20240501
DTEND;VALUE=DATE:20240502
DTSTAMP:20260423T023833
CREATED:20240408T181006Z
LAST-MODIFIED:20240814T010632Z
UID:10000010-1714521600-1714607999@hilltopharvest.com
SUMMARY:Plan how you'll get the news
DESCRIPTION:Want to be the first to know how things are growing on the farm?\nThere’s a few ways you can stay in touch. Facebook\, Instagram or our field conditions hotline will be updated regularly leading up to the season and daily during strawberry season.
URL:https://hilltopharvest.com/event/plan-how-youll-get-the-news/
LOCATION:Hilltop Harvest
ATTACH;FMTTYPE=image/jpeg:https://hilltopharvest.com/wp-content/uploads/2023/06/Rows-of-Strawberries.jpg
END:VEVENT
BEGIN:VEVENT
DTSTART;TZID=America/Chicago:20230922T090000
DTEND;TZID=America/Chicago:20230922T110000
DTSTAMP:20260423T023833
CREATED:20230919T212812Z
LAST-MODIFIED:20230919T212812Z
UID:10000008-1695373200-1695380400@hilltopharvest.com
SUMMARY:Friday Morning You-Cut Flower Experience
DESCRIPTION:There’s nothing better after a busy day than walking through the flowers\, breathing in the beauty and creating something beautiful. Join us for an evening you-pick flower event. \nCost: $25 for a paper cup which you can fill with your choice of beautiful flowers. The cup is approximately the size of a quart jar arrangement and is an easy way to transport your flowers home. \nThe food truck will be serving ice cream sundaes with your choice of toppings! \nWe will clippers available. \nKids are welcome. \nWe accept cash\, check or venmo.
URL:https://hilltopharvest.com/event/morning-you-cut-flower-experience-friday-sept-22/
LOCATION:Hilltop Harvest
ATTACH;FMTTYPE=image/jpeg:https://hilltopharvest.com/wp-content/uploads/2023/08/Picking-Wild-Flowers-scaled.jpg
END:VEVENT
BEGIN:VEVENT
DTSTART;TZID=America/Chicago:20230919T170000
DTEND;TZID=America/Chicago:20230919T190000
DTSTAMP:20260423T023833
CREATED:20230919T212304Z
LAST-MODIFIED:20230919T212329Z
UID:10000007-1695142800-1695150000@hilltopharvest.com
SUMMARY:Tuesday Evening You-Cut Flower Experience
DESCRIPTION:There’s nothing better after a busy day than walking through the flowers\, breathing in the beauty and creating something beautiful. Join us for an evening you-pick flower event. \nCost: $25 for a paper cup which you can fill with your choice of beautiful flowers. The cup is approximately the size of a quart jar arrangement and is an easy way to transport your flowers home. \nThe food truck will be serving ice cream sundaes with your choice of toppings! \nWe will clippers available. \nKids are welcome. \nWe accept cash\, check or venmo.
URL:https://hilltopharvest.com/event/sunset-you-cut-flower-experience-tuesday-sept-19/
LOCATION:Hilltop Harvest
ATTACH;FMTTYPE=image/jpeg:https://hilltopharvest.com/wp-content/uploads/2023/09/IMG--scaled.jpg
END:VEVENT
BEGIN:VEVENT
DTSTART;TZID=America/Chicago:20230916T090000
DTEND;TZID=America/Chicago:20230916T110000
DTSTAMP:20260423T023833
CREATED:20230902T211305Z
LAST-MODIFIED:20230916T142416Z
UID:10000004-1694854800-1694862000@hilltopharvest.com
SUMMARY:Saturday Morning Flower Cutting
DESCRIPTION:Start your weekend with beautiful flowers! Come with a friend\, daughter or grandchild and create your own bouquet as you walk around and select the flowers that inspire you. \nCost:  $25 for a 32 oz cup that holds approximately 20-25 stems. \nThe food truck will be open to enjoy a treat before or after you create your bouquet.  Fall menu: Chai-spiced waffles with whipped cream and pears; plain waffles with whipped cream\, sprinkles and a variety or syrups; ice cream sundaes. \nKids are welcome and a playground is available right next to the flowers. \nWe accept cash\, check or venmo.
URL:https://hilltopharvest.com/event/saturday-morning-flower-cutting/
LOCATION:Hilltop Harvest
ATTACH;FMTTYPE=image/jpeg:https://hilltopharvest.com/wp-content/uploads/2023/09/Dahlia-Seedling-scaled.jpg
END:VEVENT
BEGIN:VEVENT
DTSTART;TZID=America/Chicago:20230830T180000
DTEND;TZID=America/Chicago:20230830T200000
DTSTAMP:20260423T023833
CREATED:20230830T161118Z
LAST-MODIFIED:20230831T001941Z
UID:10000001-1693418400-1693425600@hilltopharvest.com
SUMMARY:Sunset You-Cut Flower Experience
DESCRIPTION:There’s nothing better after a busy day than walking through the flowers\, breathing in the beauty and creating something beautiful. Join us for an evening you-pick flower event. \nCost: $25 for a 32 oz cup which you can fill with your choice of beautiful flowers. The cup is approximately the size of a quart jar arrangement and is an easy way to transport your flowers home. \nThe food truck will be serving chai spiced waffles topped with vanilla whipped cream and pears. \nWe will have some clippers available\, or you are welcome to bring your own. \nKids are welcome.
URL:https://hilltopharvest.com/event/sunset-you-cut-flower-experience/
LOCATION:Hilltop Harvest
ATTACH;FMTTYPE=image/jpeg:https://hilltopharvest.com/wp-content/uploads/2023/08/Picking-Wild-Flowers-scaled.jpg
END:VEVENT
END:VCALENDAR